BEGIN:VCALENDAR
VERSION:2.0
PRODID:-//ChamberMaster//Event Calendar 2.0//EN
METHOD:PUBLISH
X-PUBLISHED-TTL:P3D
REFRESH-INTERVAL:P3D
CALSCALE:GREGORIAN
BEGIN:VEVENT
DTSTART:20190416T150000Z
DTEND:20190512T220000Z
X-MICROSOFT-CDO-ALLDAYEVENT:FALSE
SUMMARY:Student Art Show
DESCRIPTION:Student Art Show April 16   May 12\, 2019 The creativity of budding artists ranging from kindergarten to high school seniors fills the Museum in the spring. Each week a selection of art is on view and a reception is held to recognize and honor the students. Sponsored by the MONA Guild. Buffalo\, Kearney\, Phelps County Schools Reception\, Wednesday\, April 17   7:00-8:30 p.m. Kearney High School Reception\, Wednesday\, April 24   7:00-8:30 p.m. Kearney Public Middle Schools & Kearney Catholic High School Reception\, Tuesday\, April 30   7:00-8:30 p.m. Kearney Public Elementary Schools Reception\, Tuesday\, May 7   5:30-7:30 p.m.
X-ALT-DESC;FMTTYPE=text/html:Student Art Show April 16 &ndash\; May 12\, 2019 The creativity of budding artists ranging from kindergarten to high school seniors fills the Museum in the spring. Each week a selection of art is on view and a reception is held to recognize and honor the students. Sponsored by the MONA Guild. Buffalo\, Kearney\, Phelps County Schools Reception\, Wednesday\, April 17 &bull\; 7:00-8:30 p.m. Kearney High School Reception\, Wednesday\, April 24 &bull\; 7:00-8:30 p.m. Kearney Public Middle Schools &amp\; Kearney Catholic High School Reception\, Tuesday\, April 30 &bull\; 7:00-8:30 p.m. Kearney Public Elementary Schools Reception\, Tuesday\, May 7 &bull\; 5:30-7:30 p.m.
LOCATION:Museum of Nebraska Art 2401 Central Avenue Kearney\, NE 68847
UID:e.1404.14436
SEQUENCE:3
DTSTAMP:20260426T020436Z
URL:https://chambermaster.kearneycoc.org/events/details/student-art-show-04-16-2019-14436
END:VEVENT

END:VCALENDAR
