BEGIN:VCALENDAR
VERSION:2.0
PRODID:-//ChamberMaster//Event Calendar 2.0//EN
METHOD:PUBLISH
X-PUBLISHED-TTL:P3D
REFRESH-INTERVAL:P3D
CALSCALE:GREGORIAN
BEGIN:VEVENT
DTSTART:20150728T140000Z
DTEND:20150728T220000Z
X-MICROSOFT-CDO-ALLDAYEVENT:FALSE
SUMMARY:STUFF THE BUS drop off location
DESCRIPTION:LET'S HELP STUFF THE BUS!!\n\nBring your new donated school supplies to Shelter Insurance Heather Crowley agency 3905 N. 2nd ave Ste 4 Kearney\, NE.\n\nThe items you bring will help the United Way\, Kawanis\, and Kearney E free Church stuff school bags for the 2015-2016 School year for our children and teachers.\n\nEvery item helps: pencils\, crayons\, colored pencils\, notebooks\, pens\, sissors\, construction paper\, erasers\, markers\, rulers\, paper\, elmers glue\, dry erase markers\, etc....\n\nFor More information please click http://www.uwka.org/stuffthebus
X-ALT-DESC;FMTTYPE=text/html:<span style="color:rgb(255\, 0\, 0)"><span style="background-color:rgb(255\, 255\, 0)">LET&#39\;S HELP STUFF THE BUS!!</span><br />\n<span style="background-color:rgb(255\, 255\, 0)">Bring your new&nbsp\;donated school supplies to Shelter Insurance&nbsp\;Heather Crowley agency&nbsp\;3905 N. 2nd ave Ste 4 Kearney\, NE.</span><br />\n<span style="background-color:rgb(255\, 255\, 0)">The items you bring will help the United Way\, Kawanis\, and Kearney E free Church&nbsp\;stuff school bags for the 2015-2016 School year for our children and teachers.</span><br />\n<span style="background-color:rgb(255\, 255\, 0)">Every item helps: pencils\, crayons\, colored pencils\, notebooks\, pens\, sissors\, construction paper\, erasers\, markers\, rulers\, paper\, elmers glue\, dry erase markers\, etc....</span></span><br />\nFor More information please click <a href="http://www.uwka.org/stuffthebus" rel="nofollow" target="_blank">http://www.uwka.org/stuffthebus</a><br />\n<br />\n<br />\n&nbsp\;
LOCATION:
UID:e.1404.6656
SEQUENCE:3
DTSTAMP:20260422T151655Z
URL:https://chambermaster.kearneycoc.org/events/details/stuff-the-bus-drop-off-location-07-28-2015-6656
END:VEVENT

END:VCALENDAR
