BEGIN:VCALENDAR
VERSION:2.0
PRODID:-//ChamberMaster//Event Calendar 2.0//EN
METHOD:PUBLISH
X-PUBLISHED-TTL:P3D
REFRESH-INTERVAL:P3D
CALSCALE:GREGORIAN
BEGIN:VEVENT
DTSTART:20220719T130000Z
DTEND:20220719T200000Z
X-MICROSOFT-CDO-ALLDAYEVENT:FALSE
SUMMARY:Summer Camps @ KACM
DESCRIPTION:Summer is here! \n\nWe are offering camps on Tuesdays and Fridays throughout the summer. Each day is a new theme so check out our website for more information!\n\n\n\nAges 4-10\n\n$25 Museum Member\, $40 Non Member\n\nCamp extension available for purchase that extends child care until 5pm.\n\n\n\nNo KACM camps July 4-8 due to Explore Theater Camps being hosted at the Museum.
X-ALT-DESC;FMTTYPE=text/html:Summer is here!&nbsp\;<br />\nWe are offering camps on Tuesdays and Fridays throughout the summer. Each day is a new theme so check out our website for more information!<br />\n<br />\nAges 4-10<br />\n$25 Museum Member\, $40 Non Member<br />\nCamp extension available for purchase that extends child care until 5pm.<br />\n<br />\nNo KACM camps July 4-8 due to Explore Theater Camps being hosted at the Museum.&nbsp\;
LOCATION:Kearney Area Children's Museum 5827 4th Avenue\, Kearney\, NE 68845
UID:e.1404.19734
SEQUENCE:3
DTSTAMP:20260421T133559Z
URL:https://chambermaster.kearneycoc.org/events/details/summer-camps-kacm-07-19-2022-19734
END:VEVENT

END:VCALENDAR
