BEGIN:VCALENDAR
VERSION:2.0
PRODID:-//ChamberMaster//Event Calendar 2.0//EN
METHOD:PUBLISH
X-PUBLISHED-TTL:P3D
REFRESH-INTERVAL:P3D
CALSCALE:GREGORIAN
BEGIN:VEVENT
DTSTART;VALUE=DATE:20210722
DTEND;VALUE=DATE:20210725
TRANSP:TRANSPARENT
X-MICROSOFT-CDO-ALLDAYEVENT:TRUE
SUMMARY:Summer Sidewalk Sales on the Bricks
DESCRIPTION:Hit the Bricks for some sweet savings during Downtown Kearney's annual Summer Sidewalk Sales on Thursday\, July 22nd through Saturday\, July 24th. Participating businesses include but aren't limited to: ABC Drug & Gift Bow & Arrow Boutique Central Mercantile Denim Bar Boutique Divas Floral Shop & Boutique Edith Joi Boutique Fanci That Hawthorne Jewelry Hello Beautiful Bridal & Formal Wear Holistic Healing Spa & Bohemian Boutique Home Within Olive & Sage Boutique Paint Paradise Rooted Plant Co. Rustic Patch Rustic Seagull Boutique & Consignment Solid Rock Suite Child Syndicate Games TRU Cafe (antiques & castaways) Wee Cycle Children's Consignment & Boutique
X-ALT-DESC;FMTTYPE=text/html:Hit the Bricks for some sweet savings during Downtown Kearney&rsquo\;s annual Summer Sidewalk Sales on Thursday\, July 22nd through Saturday\, July 24th. Participating businesses include but aren&#39\;t limited to: ABC Drug &amp\; Gift Bow &amp\; Arrow Boutique Central Mercantile Denim Bar Boutique Divas Floral Shop &amp\; Boutique Edith Joi Boutique Fanci That Hawthorne Jewelry Hello Beautiful Bridal &amp\; Formal Wear Holistic Healing Spa &amp\; Bohemian Boutique Home Within Olive &amp\; Sage Boutique Paint Paradise Rooted Plant Co. Rustic Patch Rustic Seagull Boutique &amp\; Consignment Solid Rock Suite Child Syndicate Games TRU Cafe (antiques &amp\; castaways) Wee Cycle Children&#39\;s Consignment &amp\; Boutique
LOCATION:Downtown Kearney
UID:e.1404.19347
SEQUENCE:3
DTSTAMP:20260424T060716Z
URL:https://chambermaster.kearneycoc.org/events/details/summer-sidewalk-sales-on-the-bricks-07-22-2021-19347
END:VEVENT

END:VCALENDAR
