BEGIN:VCALENDAR
VERSION:2.0
PRODID:-//ChamberMaster//Event Calendar 2.0//EN
METHOD:PUBLISH
X-PUBLISHED-TTL:P3D
REFRESH-INTERVAL:P3D
CALSCALE:GREGORIAN
BEGIN:VEVENT
DTSTART:20120929T120000Z
DTEND:20120929T140000Z
X-MICROSOFT-CDO-ALLDAYEVENT:FALSE
SUMMARY:Susan G. Komen Central Nebraska Race for the Cure
DESCRIPTION:The Komen Nebraska Affiliate is excited to be hosting the 2nd Annual Central Nebraska Race for the Cure to be held on Saturday\, September 29\, 2012 at UNK in Kearney Nebraska. We are currently accepting registrations at komennebraska.org or by calling the Race Hotline 308-865-RACE (7223). Register individually or put together a team of 10 or more! Encourage everyone you can to help make a difference in the fight against breast cancer.\n\n\n\nWe Live Here. We Race Here. We Save Lives HERE.
X-ALT-DESC;FMTTYPE=text/html:The Komen Nebraska Affiliate is excited to be hosting the 2<sup>nd</sup> Annual Central Nebraska Race for the Cure to be held on Saturday\, September 29\, 2012 at UNK in Kearney Nebraska. We are currently accepting registrations at komennebraska.org or by calling the Race Hotline 308-865-RACE (7223). Register individually or put together a team of 10 or more! Encourage everyone you can to help make a difference in the fight against breast cancer.<br />\n<br />\nWe Live Here. We Race Here. We Save Lives HERE.
LOCATION:UNK\, Kearney\, NE
UID:e.1404.2179
SEQUENCE:3
DTSTAMP:20260425T020911Z
URL:https://chambermaster.kearneycoc.org/events/details/susan-g-komen-central-nebraska-race-for-the-cure-09-29-2012-2179
END:VEVENT

END:VCALENDAR
