BEGIN:VCALENDAR
VERSION:2.0
PRODID:-//ChamberMaster//Event Calendar 2.0//EN
METHOD:PUBLISH
X-PUBLISHED-TTL:P3D
REFRESH-INTERVAL:P3D
CALSCALE:GREGORIAN
BEGIN:VEVENT
DTSTART;VALUE=DATE:20150619
DTEND;VALUE=DATE:20150620
TRANSP:TRANSPARENT
X-MICROSOFT-CDO-ALLDAYEVENT:TRUE
SUMMARY:Tasha Keiter Memorial Golf Tournament
DESCRIPTION:4-Person Golf Scramble To assist with teaching golf in the Elementary Schools. SNAG "Starting New At Golf".
X-ALT-DESC;FMTTYPE=text/html:4-Person Golf Scramble To assist with teaching golf in the Elementary Schools. SNAG &quot\;Starting New At Golf&quot\;.
LOCATION:Kearney Country Club 308-237-2553 2800 19th Avenue Kearney\, NE
UID:e.1404.6272
SEQUENCE:3
DTSTAMP:20260422T165402Z
URL:https://chambermaster.kearneycoc.org/events/details/tasha-keiter-memorial-golf-tournament-06-19-2015-6272
END:VEVENT

END:VCALENDAR
