BEGIN:VCALENDAR
VERSION:2.0
PRODID:-//ChamberMaster//Event Calendar 2.0//EN
METHOD:PUBLISH
X-PUBLISHED-TTL:P3D
REFRESH-INTERVAL:P3D
CALSCALE:GREGORIAN
BEGIN:VEVENT
DTSTART;VALUE=DATE:20210920
DTEND;VALUE=DATE:20210921
TRANSP:TRANSPARENT
X-MICROSOFT-CDO-ALLDAYEVENT:TRUE
SUMMARY:Taste Kearney - Make A Difference Monday
DESCRIPTION:Canned Food war! customers will be encouraged to bring a canned food item to the participating restaurants of choice to be donated to the local food bank. The winning restaurant wins a free promo video from the chamber\, so be sure to share with your social following to boost your odds of winning!
X-ALT-DESC;FMTTYPE=text/html:<span class="JsGRdQ">Canned Food war! customers will be encouraged to bring a canned food item to the participating restaurants of choice to be donated to the local food bank. The winning restaurant wins a free promo video from the chamber\, so be sure to share with your social following to boost your odds of winning!</span>
LOCATION:
UID:e.1404.19380
SEQUENCE:3
DTSTAMP:20260424T020400Z
URL:https://chambermaster.kearneycoc.org/events/details/taste-kearney-make-a-difference-monday-19380
END:VEVENT

END:VCALENDAR
