BEGIN:VCALENDAR
VERSION:2.0
PRODID:-//ChamberMaster//Event Calendar 2.0//EN
METHOD:PUBLISH
X-PUBLISHED-TTL:P3D
REFRESH-INTERVAL:P3D
CALSCALE:GREGORIAN
BEGIN:VEVENT
DTSTART;VALUE=DATE:20210919
DTEND;VALUE=DATE:20210920
TRANSP:TRANSPARENT
X-MICROSOFT-CDO-ALLDAYEVENT:TRUE
SUMMARY:Taste Kearney - Sunday Family Dinner
DESCRIPTION:This day is all about family! We will be encouraging families to eat out together and enjoy all the great cuisine that Kearney has to offer - no matter breakfast\, lunch or supper.
X-ALT-DESC;FMTTYPE=text/html:<span class="JsGRdQ">This day is all about family! We will be encouraging families to eat out together and enjoy all the great cuisine that Kearney has to offer - no matter breakfast\, lunch or supper.&nbsp\;</span>
LOCATION:
UID:e.1404.19379
SEQUENCE:3
DTSTAMP:20260424T020902Z
URL:https://chambermaster.kearneycoc.org/events/details/taste-kearney-sunday-family-dinner-19379
END:VEVENT

END:VCALENDAR
