BEGIN:VCALENDAR
VERSION:2.0
PRODID:-//ChamberMaster//Event Calendar 2.0//EN
METHOD:PUBLISH
X-PUBLISHED-TTL:P3D
REFRESH-INTERVAL:P3D
CALSCALE:GREGORIAN
BEGIN:VEVENT
DTSTART:20160315T200000Z
DTEND:20160316T020000Z
X-MICROSOFT-CDO-ALLDAYEVENT:FALSE
SUMMARY:Taste of Home Cooking School
DESCRIPTION:Back by popular demand - The Taste of Home Cooking School is returning to Kearney.  You will have the opportunity to showcase your business to your target customers by displaying and selling your products and services at this event!\n\n\n\nThe show opens at 3:00 p.m. with exhibits from local businesses on display. The cooking show starts at 7:00 p.m. presents by a professional home economist from the Taste of Home Cooking School.\n\n\n\nMore than 1\,000 people attended this event in 2014 and we expect the same in 2016. The Cooking show will be publicized in the popular Taste of Home magazine as well as in the Kearney Hub and area newspapers.\n\n\n\nPlease feel free to contact your Kearney Hub sales representative at 308-237-2152 or 1-800-950-6113 if you have any questions. Don't miss out- join us for this exciting "winter blues-buster" extravaganza! It will be a marketing opportunity you can't afford to miss!
X-ALT-DESC;FMTTYPE=text/html:Back by popular demand - The Taste of Home Cooking School is returning to Kearney. &nbsp\;You will have the opportunity to showcase your business to your target customers by displaying and selling your products and services at this event!<br />\n<br />\nThe show opens at 3:00 p.m. with exhibits from local businesses on display. The cooking show starts at 7:00 p.m. presents by a professional home economist from the Taste of Home Cooking School.<br />\n<br />\nMore than 1\,000 people attended this event in 2014 and we expect the same in 2016. The Cooking show will be publicized in the popular Taste of Home magazine as well as in the Kearney Hub and area newspapers.<br />\n<br />\nPlease feel free to contact your Kearney Hub sales representative at 308-237-2152 or 1-800-950-6113 if you have any questions. Don&#39\;t miss out- join us for this exciting &quot\;winter blues-buster&quot\; extravaganza! It will be a marketing opportunity you can&#39\;t afford to miss!
LOCATION:Buffalo Co. Fairgrounds Exhibit Building 3807 Avenue N
UID:e.1404.7247
SEQUENCE:3
DTSTAMP:20260422T012423Z
URL:https://chambermaster.kearneycoc.org/events/details/taste-of-home-cooking-school-03-15-2016-7247
END:VEVENT

END:VCALENDAR
