BEGIN:VCALENDAR
VERSION:2.0
PRODID:-//ChamberMaster//Event Calendar 2.0//EN
METHOD:PUBLISH
X-PUBLISHED-TTL:P3D
REFRESH-INTERVAL:P3D
CALSCALE:GREGORIAN
BEGIN:VEVENT
DTSTART;VALUE=DATE:20201021
DTEND;VALUE=DATE:20201022
TRANSP:TRANSPARENT
X-MICROSOFT-CDO-ALLDAYEVENT:TRUE
SUMMARY:TCAC MONA Charity Online Auction
DESCRIPTION:Online auction of art from the estate of the late Jack Karraker. Jack was a local artist\, a professor at UNK\, and a founding father of the Museum of Nebraska Art. All proceeds from the sale of his art will benefit MONA. Auction is online now and accepting bids. Bidding will end 10/21/2020 beginning at 7 pm. Paintings can be viewed Monday -Thursday from 10 am - 5 pm at Tri-City Auction Center Kearney located at 1220 2nd Ave. Online viewing and bidding at the following link: https://tricityauctioncenter.hibid.com/catalog/240279/--kearney---mona-charity-and-online-auction-ending-oct--21st/
X-ALT-DESC;FMTTYPE=text/html:Online auction of art from the estate of the late Jack Karraker. Jack was a local artist\, a professor at UNK\, and a founding father of the Museum of Nebraska Art. All proceeds from the sale of his art will benefit MONA. Auction is online now and accepting bids. Bidding will end 10/21/2020 beginning at 7 pm. Paintings can be viewed Monday -Thursday from 10 am - 5 pm at Tri-City Auction Center Kearney located at 1220 2nd Ave. Online viewing and bidding at the following link: https://tricityauctioncenter.hibid.com/catalog/240279/--kearney---mona-charity-and-online-auction-ending-oct--21st/
LOCATION:1220 2nd Ave. Kearney\, NE 68847
UID:e.1404.18764
SEQUENCE:3
DTSTAMP:20260424T223443Z
URL:https://chambermaster.kearneycoc.org/events/details/tcac-mona-charity-online-auction-18764
END:VEVENT

END:VCALENDAR
