BEGIN:VCALENDAR
VERSION:2.0
PRODID:-//ChamberMaster//Event Calendar 2.0//EN
METHOD:PUBLISH
X-PUBLISHED-TTL:P3D
REFRESH-INTERVAL:P3D
CALSCALE:GREGORIAN
BEGIN:VEVENT
DTSTART:20160712T220000Z
DTEND:20160713T003000Z
X-MICROSOFT-CDO-ALLDAYEVENT:FALSE
SUMMARY:Team Isaiah Fundraiser
DESCRIPTION:Isaiah Bauer\, 18 was struck by a car while crossing 39th Street in April before graduation. He's at Madonna Rehabilitation Hospital. To help with medical costs and expenses\, friends and family plan a fundraiser.
X-ALT-DESC;FMTTYPE=text/html:Isaiah Bauer\, 18 was struck by a car while crossing 39th Street in April before graduation. He&#39\;s at Madonna Rehabilitation Hospital. To help with medical costs and expenses\, friends and family plan a fundraiser.
LOCATION:Kearney Ag Pavilion Buffalo County Fairgrounds
UID:e.1404.8923
SEQUENCE:3
DTSTAMP:20260421T185107Z
URL:https://chambermaster.kearneycoc.org/events/details/team-isaiah-fundraiser-07-12-2016-8923
END:VEVENT

END:VCALENDAR
