BEGIN:VCALENDAR
VERSION:2.0
PRODID:-//ChamberMaster//Event Calendar 2.0//EN
METHOD:PUBLISH
X-PUBLISHED-TTL:P3D
REFRESH-INTERVAL:P3D
CALSCALE:GREGORIAN
BEGIN:VEVENT
DTSTART:20150611T130000Z
DTEND:20150611T183000Z
X-MICROSOFT-CDO-ALLDAYEVENT:FALSE
SUMMARY:Teen Driver Skills Course
DESCRIPTION:Free Teen Driver Skills Course\n\nhosted by the Nebraska Safety Center\n\nAdvanced driver training\, visual exercises and online resources\n\n\n\nFor: Teen drivers age 16-18 with valid license and parents' permission
X-ALT-DESC;FMTTYPE=text/html:Free Teen Driver Skills Course<br />\nhosted by the Nebraska Safety Center<br />\nAdvanced driver training\, visual exercises and online resources<br />\n<br />\nFor: Teen drivers age 16-18 with valid license and parents&#39\; permission
LOCATION:UNK\, Nebraska Safety Center 17th Ave & North Railroad Streets Kearney\, NE
UID:e.1404.6267
SEQUENCE:3
DTSTAMP:20260422T165225Z
URL:https://chambermaster.kearneycoc.org/events/details/teen-driver-skills-course-06-11-2015-6267
END:VEVENT

END:VCALENDAR
