BEGIN:VCALENDAR
VERSION:2.0
PRODID:-//ChamberMaster//Event Calendar 2.0//EN
METHOD:PUBLISH
X-PUBLISHED-TTL:P3D
REFRESH-INTERVAL:P3D
CALSCALE:GREGORIAN
BEGIN:VEVENT
DTSTART;VALUE=DATE:20150425
DTEND;VALUE=DATE:20150426
TRANSP:TRANSPARENT
X-MICROSOFT-CDO-ALLDAYEVENT:TRUE
SUMMARY:The 36th Annual UNK Blue Gold Brigade Bike Bowl 2015
DESCRIPTION:The UNK student alumni organization\, Blue Gold Brigade\, is excited to be hosting the 36th annual UNK Bike Bowl. The Bike Bowl is a long time Kearney tradition and we would love to have the Kearney community participate in this great event. The Bike Bowl is a 4 member\, 25 mile race on April 25th.\n\n	There will be two races: one for community/alumni and students.\n	Teams consist of 4 riders\, and 2 "pit" crew members.\n	Bikes are provided but helmets are not. Helmets are required to ride. \n\nIf you would like to provide race-day support\; food for after the race and give-away prizes are needed.
X-ALT-DESC;FMTTYPE=text/html:The UNK student alumni organization\, Blue Gold Brigade\, is excited to be hosting the 36th&nbsp\;annual UNK Bike Bowl. The Bike Bowl is a long time Kearney tradition and we would love to have the Kearney community participate in this great event. The Bike Bowl is a 4 member\, 25 mile race on April 25th.\n<ul>\n	<li>There will be two races: one for community/alumni and students.</li>\n	<li>Teams consist of 4 riders\, and 2 &quot\;pit&quot\; crew members.</li>\n	<li>Bikes are provided but helmets are not. Helmets are required to ride.&nbsp\;</li>\n</ul>\nIf you would like to provide race-day support\; food for after the race and give-away prizes are needed.
LOCATION:Teams will begin racing at the UNK Safety Center Range\, 1801 N. Railroad\, starting with students\, followed by alumni/community.
UID:e.1404.6182
SEQUENCE:3
DTSTAMP:20260422T200500Z
URL:https://chambermaster.kearneycoc.org/events/details/the-36th-annual-unk-blue-gold-brigade-bike-bowl-2015-04-25-2015-6182
END:VEVENT

END:VCALENDAR
