BEGIN:VCALENDAR
VERSION:2.0
PRODID:-//ChamberMaster//Event Calendar 2.0//EN
METHOD:PUBLISH
X-PUBLISHED-TTL:P3D
REFRESH-INTERVAL:P3D
CALSCALE:GREGORIAN
BEGIN:VEVENT
DTSTART:20140322T000000Z
DTEND:20140324T020000Z
X-MICROSOFT-CDO-ALLDAYEVENT:FALSE
SUMMARY:The Academy of Children's Theatre at KCT presents the musical "Metaphasia"
DESCRIPTION:The Academy of Children's Theatre at Kearney Community Theatre present the musical "Metaphasia". This is a musical version of the 12 Dancing Princesses. Come out and watch a cast of 50 youth perform. March 21st and 22nd at 7:00pm March 23rd at 2:00pm Tickets available at Kearney Community Theatre box office (308-234-1529) and on line starting March 12th. For additional information contact Cindy at 308-293-9585 or casyring@hotmail.com.
X-ALT-DESC;FMTTYPE=text/html:The Academy of Children&#39\;s Theatre at Kearney Community Theatre present the musical &quot\;Metaphasia&quot\;. This is a musical version of the 12 Dancing Princesses. Come out and watch a cast of 50 youth perform. March 21st and 22nd at 7:00pm March 23rd at 2:00pm Tickets available at Kearney Community Theatre box office (308-234-1529) and on line starting March 12th. For additional information contact Cindy at 308-293-9585 or casyring@hotmail.com. 
LOCATION:Kearney Community Theatre 83 Plaza Blvd Kearney\, NE 68845
UID:e.1404.4500
SEQUENCE:3
DTSTAMP:20260423T181456Z
URL:https://chambermaster.kearneycoc.org/events/details/the-academy-of-children-s-theatre-at-kct-presents-the-musical-metaphasia-03-21-2014-4500
END:VEVENT

END:VCALENDAR
