BEGIN:VCALENDAR
VERSION:2.0
PRODID:-//ChamberMaster//Event Calendar 2.0//EN
METHOD:PUBLISH
X-PUBLISHED-TTL:P3D
REFRESH-INTERVAL:P3D
CALSCALE:GREGORIAN
BEGIN:VEVENT
DTSTART:20141004T003000Z
DTEND:20141004T023000Z
X-MICROSOFT-CDO-ALLDAYEVENT:FALSE
SUMMARY:The Alliance Brass Quintet-Kearney Concert Association
DESCRIPTION:Dazzling audiences with a repertoire ranging from the early Renaissance to jazz and beyond\, The Alliance Brass Quintet is poised to become one of the world's finest brass ensembles. Hailing from Chicago this fine young group is comprised of some of the United States' finest young talents.
X-ALT-DESC;FMTTYPE=text/html:Dazzling audiences with a repertoire ranging from the early Renaissance to jazz and beyond\, The Alliance Brass Quintet is poised to become one of the world's finest brass ensembles. Hailing from Chicago this fine young group is comprised of some of the United States' finest young talents.
LOCATION:Merryman Performing Arts Center
UID:e.1404.5340
SEQUENCE:3
DTSTAMP:20260423T070214Z
URL:https://chambermaster.kearneycoc.org/events/details/the-alliance-brass-quintet-kearney-concert-association-10-03-2014-5340
END:VEVENT

END:VCALENDAR
