BEGIN:VCALENDAR
VERSION:2.0
PRODID:-//ChamberMaster//Event Calendar 2.0//EN
METHOD:PUBLISH
X-PUBLISHED-TTL:P3D
REFRESH-INTERVAL:P3D
CALSCALE:GREGORIAN
BEGIN:VEVENT
DTSTART:20220923T000000Z
DTEND:20220926T023000Z
X-MICROSOFT-CDO-ALLDAYEVENT:FALSE
SUMMARY:The Curious Incident of the Dog in the Night-Time
DESCRIPTION:The Curious Incident of the Dog in the Night-Time Presented by Crane River Theater The World Theatre 2318 Central Avenue   Kearney\, Nebraska September 22-24   7 pm September 25   2 pm Adults $20 Students $10 Tickets available online at CraneRiverTheater.org or by calling 308-627-5796. Awarded both the Tony and the Olivier awards for Best Play\, The Curious Incident of the Dog in the Night-time powerfully examines what it truly means to love\, and the sacrifices it often takes to do so. Fifteen-year-old Christopher is on a mission. After the untimely death of his neighbor's dog\, the brilliant but unique boy is compelled to investigate the crime. See the world through Christopher's eyes as he embarks on an extraordinary journey where he challenges assumed truths and discovers life-changing secrets. Based on Mark Haddon's best-selling novel\, The Curious Incident of the Dog in the Night-Time is a thrilling\, heartwarming\, and uplifting adventure story for every one of us. Presented at the newly renovated World Theatre in downtown Kearney\, this dazzlingly inventive production is one you do not want to miss!
X-ALT-DESC;FMTTYPE=text/html:The Curious Incident of the Dog in the Night-Time Presented by Crane River Theater The World Theatre 2318 Central Avenue &bull\; Kearney\, Nebraska September 22-24 &bull\; 7 pm September 25 &bull\; 2 pm Adults $20 Students $10 Tickets available online at CraneRiverTheater.org or by calling 308-627-5796. Awarded both the Tony and the Olivier awards for Best Play\, The Curious Incident of the Dog in the Night-time powerfully examines what it truly means to love\, and the sacrifices it often takes to do so. Fifteen-year-old Christopher is on a mission. After the untimely death of his neighbor&rsquo\;s dog\, the brilliant but unique boy is compelled to investigate the crime. See the world through Christopher&rsquo\;s eyes as he embarks on an extraordinary journey where he challenges assumed truths and discovers life-changing secrets. Based on Mark Haddon&rsquo\;s best-selling novel\, The Curious Incident of the Dog in the Night-Time is a thrilling\, heartwarming\, and uplifting adventure story for every one of us. Presented at the newly renovated World Theatre in downtown Kearney\, this dazzlingly inventive production is one you do not want to miss!
LOCATION:The World Theatre 2318 Central Avenue\, Kearney
UID:e.1404.20082
SEQUENCE:3
DTSTAMP:20260421T121956Z
URL:https://chambermaster.kearneycoc.org/events/details/the-curious-incident-of-the-dog-in-the-night-time-20082
END:VEVENT

END:VCALENDAR
