BEGIN:VCALENDAR
VERSION:2.0
PRODID:-//ChamberMaster//Event Calendar 2.0//EN
METHOD:PUBLISH
X-PUBLISHED-TTL:P3D
REFRESH-INTERVAL:P3D
CALSCALE:GREGORIAN
BEGIN:VEVENT
DTSTART:20220218T010000Z
DTEND:20220218T033000Z
X-MICROSOFT-CDO-ALLDAYEVENT:FALSE
SUMMARY:The Everly Set
DESCRIPTION:The Everly Set presents the ultimate concert celebration of the legendary Everly Brothers\, and whisks you to 1957 when teens Phil and Don Everly first supercharged the sound of Rock'n'Roll with the sparkling harmonies\, "Bye\, Bye\, Love"\, "All I have to do is Dream" and many more. Tickets are available online at pickmytickets.com or by calling the box office at (308) 698-8297.
X-ALT-DESC;FMTTYPE=text/html:The Everly Set presents the ultimate concert celebration of the legendary Everly Brothers\, and whisks you to 1957 when teens Phil and Don Everly first supercharged the sound of Rock&rsquo\;n&rsquo\;Roll with the sparkling harmonies\, &ldquo\;Bye\, Bye\, Love&rdquo\;\, &rdquo\;All I have to do is Dream&rdquo\; and many more. Tickets are available online at pickmytickets.com or by calling the box office at (308) 698-8297.
LOCATION:Merryman Performing Arts Center 225 W 22nd Street Kearney\, NE
UID:e.1404.19447
SEQUENCE:3
DTSTAMP:20260423T180655Z
URL:https://chambermaster.kearneycoc.org/events/details/the-everly-set-19447
END:VEVENT

END:VCALENDAR
