BEGIN:VCALENDAR
VERSION:2.0
PRODID:-//ChamberMaster//Event Calendar 2.0//EN
METHOD:PUBLISH
X-PUBLISHED-TTL:P3D
REFRESH-INTERVAL:P3D
CALSCALE:GREGORIAN
BEGIN:VEVENT
DTSTART:20160728T210000Z
DTEND:20160728T223000Z
X-MICROSOFT-CDO-ALLDAYEVENT:FALSE
SUMMARY:The Fruit Club Truck
DESCRIPTION:The Fruit Club Truck will be in Kearney\, NE on Thursday\, July 28th from 4pm-5:30pm in the Kmart parking lot located on 4700 2nd Ave. Sweet Georgia Peaches and Michigan Blueberries will be available for purchase on the truck!
X-ALT-DESC;FMTTYPE=text/html:The Fruit Club Truck will be in Kearney\, NE on Thursday\, July 28th from 4pm-5:30pm in the Kmart parking lot located on 4700 2nd Ave. Sweet Georgia Peaches and Michigan Blueberries will be available for purchase on the truck!
LOCATION:Kmart parking lot
UID:e.1404.8944
SEQUENCE:3
DTSTAMP:20260421T185553Z
URL:https://chambermaster.kearneycoc.org/events/details/the-fruit-club-truck-07-28-2016-8944
END:VEVENT

END:VCALENDAR
