BEGIN:VCALENDAR
VERSION:2.0
PRODID:-//ChamberMaster//Event Calendar 2.0//EN
METHOD:PUBLISH
X-PUBLISHED-TTL:P3D
REFRESH-INTERVAL:P3D
CALSCALE:GREGORIAN
BEGIN:VEVENT
DTSTART:20160811T133000Z
DTEND:20160812T213000Z
X-MICROSOFT-CDO-ALLDAYEVENT:FALSE
SUMMARY:The Global Leadership Summit
DESCRIPTION:The Global Leadership Summit is a two-day event telecast LIVE in HD from Willow's campus near Chicago every August to hundreds of locations in North America. Throughout the fall\, Summit events take place at an additional 675+ sites in 125 countries and 59 languages
X-ALT-DESC;FMTTYPE=text/html:The Global Leadership Summit is a two-day event telecast LIVE in HD from Willow&#39\;s campus near Chicago every August to hundreds of locations in North America. Throughout the fall\, Summit events take place at an additional 675+ sites in 125 countries and 59 languages
LOCATION:New Life Church-Site #513 Kearney\, NE
UID:e.1404.8807
SEQUENCE:3
DTSTAMP:20260421T171450Z
URL:https://chambermaster.kearneycoc.org/events/details/the-global-leadership-summit-08-11-2016-8807
END:VEVENT

END:VCALENDAR
