BEGIN:VCALENDAR
VERSION:2.0
PRODID:-//ChamberMaster//Event Calendar 2.0//EN
METHOD:PUBLISH
X-PUBLISHED-TTL:P3D
REFRESH-INTERVAL:P3D
CALSCALE:GREGORIAN
BEGIN:VEVENT
DTSTART:20190808T133000Z
DTEND:20190809T203000Z
X-MICROSOFT-CDO-ALLDAYEVENT:FALSE
SUMMARY:The Global Leadership Summit
DESCRIPTION:Join with an expected 405\,000 people around the country for two days of world-class leadership training at the Global Leadership Summit.  Event is simulcasted around the world and hosted locally at New Life Church in Kearney.  Get a unique blend of vision\, inspiration and practical skills\, learn from faculty representing various sectors and backgrounds\, network with other influencers in the community.  \n\n\n\nWhen you commit to grow your leadership\, everyone around you wins!
X-ALT-DESC;FMTTYPE=text/html:Join with an expected 405\,000 people around the country for two days of world-class leadership training at the Global Leadership Summit.&nbsp\; Event is simulcasted around the world and hosted locally at New Life Church in Kearney.&nbsp\; Get a unique blend of vision\, inspiration and practical skills\, learn from faculty representing various sectors and backgrounds\, network with other influencers in the community.&nbsp\;&nbsp\;<br />\n<br />\nWhen you commit to grow your leadership\, everyone around you wins!&nbsp\;&nbsp\;
LOCATION:New Life Church 2715 West 39th Street Kearney NE 68845
UID:e.1404.16594
SEQUENCE:3
DTSTAMP:20260425T213018Z
URL:https://chambermaster.kearneycoc.org/events/details/the-global-leadership-summit-16594
END:VEVENT

END:VCALENDAR
