BEGIN:VCALENDAR
VERSION:2.0
PRODID:-//ChamberMaster//Event Calendar 2.0//EN
METHOD:PUBLISH
X-PUBLISHED-TTL:P3D
REFRESH-INTERVAL:P3D
CALSCALE:GREGORIAN
BEGIN:VEVENT
DTSTART:20160722T230000Z
DTEND:20160723T040000Z
X-MICROSOFT-CDO-ALLDAYEVENT:FALSE
SUMMARY:The Good Living Tour: Kearney
DESCRIPTION:Hear Nebraska is excited to welcome Kearney as a host city of the 2016 Good Living Tour concert   Friday\, July 22!\n\nThe concert is FREE\, FAMILY FRIENDLY\, and ALL AGES are encouraged to attend. Music begins at 7 p.m. Come young. Come old. Celebrate Good Living in Greater Nebraska!\n\nIn its second year\, the Good Living Tour expands from 9 to 12 Greater Nebraska cities over three weekends this summer\, July 21-Aug. 7. Like last year's inaugural run\, the tour will mix a concert series and storytelling project to celebrate the state's unique livelihood and increasingly vibrant\, original music culture.\n\nAn unprecedented project\, the tour will bring free\, all-ages concerts featuring a diverse mix of all-original Nebraska bands and DJs to each location. Its mission is to connect the state's urban and rural communities\, expose young audiences to music performance\, educated the world about Greater Nebraska's music and art scenes and ultimately help each participating town attract and retain young people.\n\n\n\nMinor Movements (instrumental rock   Kearney)\n\nHailing from Elm Creek\, Minor Movements is the ambient duo of Nic Brant and Kent Lutt. In the vein of Explosions In The Sky\, Minor Movements presents two full-length albums of highly emotive instrumentals. Circling electric guitars build into triumphant mountains of sound on the band's 2015 record "The Quick Passing of Days."
X-ALT-DESC;FMTTYPE=text/html:<p style="margin: 12px 0px\; padding: 0px\; border: 0px\; font-stretch: inherit\; line-height: 21px\; font-family: &quot\;Source Sans Pro&quot\;\, sans-serif\; font-size: 14px\; vertical-align: baseline\; color: rgb(88\, 89\, 91)\; background-color: rgb(255\, 255\, 255)\;">Hear Nebraska is excited to welcome Kearney as a host city of the 2016 Good Living Tour concert &mdash\; Friday\, July 22!</p>\n\n<p style="margin: 12px 0px\; padding: 0px\; border: 0px\; font-stretch: inherit\; line-height: 21px\; font-family: &quot\;Source Sans Pro&quot\;\, sans-serif\; font-size: 14px\; vertical-align: baseline\; color: rgb(88\, 89\, 91)\; background-color: rgb(255\, 255\, 255)\;">The concert is FREE\, FAMILY FRIENDLY\, and ALL AGES are encouraged to attend. Music begins at 7 p.m. Come young. Come old. Celebrate Good Living in Greater Nebraska!</p>\n\n<p style="margin: 12px 0px\; padding: 0px\; border: 0px\; font-stretch: inherit\; line-height: 21px\; font-family: &quot\;Source Sans Pro&quot\;\, sans-serif\; font-size: 14px\; vertical-align: baseline\; color: rgb(88\, 89\, 91)\; background-color: rgb(255\, 255\, 255)\;">In its second year\, the Good Living Tour expands from 9 to 12 Greater Nebraska cities over three weekends this summer\, July 21-Aug. 7. Like last year&rsquo\;s inaugural run\, the tour will mix a concert series and storytelling project to celebrate the state&rsquo\;s unique livelihood and increasingly vibrant\, original music culture.</p>\n\n<p style="margin: 12px 0px\; padding: 0px\; border: 0px\; font-stretch: inherit\; line-height: 21px\; font-family: &quot\;Source Sans Pro&quot\;\, sans-serif\; font-size: 14px\; vertical-align: baseline\; color: rgb(88\, 89\, 91)\; background-color: rgb(255\, 255\, 255)\;">An unprecedented project\, the tour will bring free\, all-ages concerts featuring a diverse mix of all-original Nebraska bands and DJs to each location. Its mission is to connect the state&rsquo\;s urban and rural communities\, expose young audiences to music performance\, educated the world about Greater Nebraska&rsquo\;s music and art scenes and ultimately help each participating town attract and retain young people.<br />\n<br />\n<span style="color: rgb(88\, 89\, 91)\; font-family: &quot\;Source Sans Pro&quot\;\, sans-serif\; font-size: 14px\; line-height: 21px\; background-color: rgb(255\, 255\, 255)\;">Minor Movements (instrumental rock &ndash\; Kearney)</span><br style="color: rgb(88\, 89\, 91)\; font-family: &quot\;Source Sans Pro&quot\;\, sans-serif\; font-size: 14px\; line-height: 21px\; background-color: rgb(255\, 255\, 255)\;" />\n<span style="color: rgb(88\, 89\, 91)\; font-family: &quot\;Source Sans Pro&quot\;\, sans-serif\; font-size: 14px\; line-height: 21px\; background-color: rgb(255\, 255\, 255)\;">Hailing from Elm Creek\, Minor Movements is the ambient duo of Nic Brant and Kent Lutt. In the vein of Explosions In The Sky\, Minor Movements presents two full-length albums of highly emotive instrumentals. Circling electric guitars build into triumphant mountains of sound on the band&rsquo\;s 2015 record &ldquo\;The Quick Passing of Days.&rdquo\;</span></p>\n
LOCATION:Downtown Kearney MONA Parking Lot
UID:e.1404.8928
SEQUENCE:3
DTSTAMP:20260421T190213Z
URL:https://chambermaster.kearneycoc.org/events/details/the-good-living-tour-kearney-07-22-2016-8928
END:VEVENT

END:VCALENDAR
