BEGIN:VCALENDAR
VERSION:2.0
PRODID:-//ChamberMaster//Event Calendar 2.0//EN
METHOD:PUBLISH
X-PUBLISHED-TTL:P3D
REFRESH-INTERVAL:P3D
CALSCALE:GREGORIAN
BEGIN:VEVENT
DTSTART:20141003T000000Z
DTEND:20141003T023000Z
X-MICROSOFT-CDO-ALLDAYEVENT:FALSE
SUMMARY:The Intergalactic Nemesis Book One: Target Earth
DESCRIPTION:One Foley Artist?Hundreds of Sounds?Three Voice Actors?Dozens of Characters?And More Than 1\,000 Hand-Drawn Blow-Your-Mind Comic Book Images Blasting From A Two-Story High Screen?LIVE! Are You Ready For The Adventure?
X-ALT-DESC;FMTTYPE=text/html:One Foley Artist?Hundreds of Sounds?Three Voice Actors?Dozens of Characters?And More Than 1\,000 Hand-Drawn Blow-Your-Mind Comic Book Images Blasting From A Two-Story High Screen?LIVE! Are You Ready For The Adventure?
LOCATION:Merryman Performing Arts Center 225 West 22nd Street
UID:e.1404.5327
SEQUENCE:3
DTSTAMP:20260423T065707Z
URL:https://chambermaster.kearneycoc.org/events/details/the-intergalactic-nemesis-book-one-target-earth-10-02-2014-5327
END:VEVENT

END:VCALENDAR
