BEGIN:VCALENDAR
VERSION:2.0
PRODID:-//ChamberMaster//Event Calendar 2.0//EN
METHOD:PUBLISH
X-PUBLISHED-TTL:P3D
REFRESH-INTERVAL:P3D
CALSCALE:GREGORIAN
BEGIN:VEVENT
DTSTART:20130303T010000Z
DTEND:20130303T030000Z
X-MICROSOFT-CDO-ALLDAYEVENT:FALSE
SUMMARY:The Marvelous Wonderettes
DESCRIPTION:A nostalgic evening of more than 30 Classic 50's and 60's rock-n-roll songs including "Mr. Sandman"\, "Secret Love" and "Leader of the Pack".
X-ALT-DESC;FMTTYPE=text/html:A nostalgic evening of more than 30 Classic 50&#39\;s and 60&#39\;s rock-n-roll songs including &quot\;Mr. Sandman&quot\;\, &quot\;Secret Love&quot\; and &quot\;Leader of the Pack&quot\;.
LOCATION:Merryman Performing Arts Center 225 W. 22nd St. \, Kearney NE 68845
UID:e.1404.1953
SEQUENCE:3
DTSTAMP:20260424T155854Z
URL:https://chambermaster.kearneycoc.org/events/details/the-marvelous-wonderettes-03-02-2013-1953
END:VEVENT

END:VCALENDAR
