BEGIN:VCALENDAR
VERSION:2.0
PRODID:-//ChamberMaster//Event Calendar 2.0//EN
METHOD:PUBLISH
X-PUBLISHED-TTL:P3D
REFRESH-INTERVAL:P3D
CALSCALE:GREGORIAN
BEGIN:VEVENT
DTSTART:20160313T200000Z
DTEND:20160313T220000Z
X-MICROSOFT-CDO-ALLDAYEVENT:FALSE
SUMMARY:The Music Man In Concert
DESCRIPTION:Crane River Theater Company presents THE MUSIC MAN IN CONCERT A selection of songs from America?s favorite musical In partnership with Kearney Symphony Orchestra Crane River Theater is excited to partner with the Kearney Symphony Orchestra as we launch our Concert Series this spring with The Music Man. Comprised of talented instrumentalists from communities across the region\, we are honored to share this opportunity with a symphony that has served Central Nebraska for over a century. In our usual fashion\, Crane River Theater will bring in performers from across the country and merge them with area artists to present a concert staging of one of the most popular musicals of all time. There?s trouble in River City! When smooth-talking con man Harold Hill arrives in a small\, tight-knit town in Iowa\, he expects to dupe its residents with his elaborate moneymaking scheme: Despite his complete lack of musical literacy\, he will convince everyone that he is a brilliant bandleader and recruit all the boys in town to form a band\, pocketing the cash for instruments and uniforms. The problem? Some of the town members\, especially the stern librarian\, Marian Paroo\, don?t quite buy Harold?s story. As Harold struggles to keep his scheme afloat\, he also finds himself increasingly attached to the townspeople\, who have all experienced a positive change since Harold came to town. Complicating matters even more\, Harold is also falling head-over-heels for the beautiful Marian. As All-American as apple pie and as charming as can be\, The Music Man is a crowd-pleasing show that will leave audiences humming and dancing as they leave the theater.
X-ALT-DESC;FMTTYPE=text/html:Crane River Theater Company presents THE MUSIC MAN IN CONCERT A selection of songs from America?s favorite musical In partnership with Kearney Symphony Orchestra Crane River Theater is excited to partner with the Kearney Symphony Orchestra as we launch our Concert Series this spring with The Music Man. Comprised of talented instrumentalists from communities across the region\, we are honored to share this opportunity with a symphony that has served Central Nebraska for over a century. In our usual fashion\, Crane River Theater will bring in performers from across the country and merge them with area artists to present a concert staging of one of the most popular musicals of all time. There?s trouble in River City! When smooth-talking con man Harold Hill arrives in a small\, tight-knit town in Iowa\, he expects to dupe its residents with his elaborate moneymaking scheme: Despite his complete lack of musical literacy\, he will convince everyone that he is a brilliant bandleader and recruit all the boys in town to form a band\, pocketing the cash for instruments and uniforms. The problem? Some of the town members\, especially the stern librarian\, Marian Paroo\, don?t quite buy Harold?s story. As Harold struggles to keep his scheme afloat\, he also finds himself increasingly attached to the townspeople\, who have all experienced a positive change since Harold came to town. Complicating matters even more\, Harold is also falling head-over-heels for the beautiful Marian. As All-American as apple pie and as charming as can be\, The Music Man is a crowd-pleasing show that will leave audiences humming and dancing as they leave the theater.
LOCATION:UNK Fine Arts Recital Hall ? 2506 12th Avenue\, Kearney\, NE 68849
UID:e.1404.7469
SEQUENCE:3
DTSTAMP:20260422T014123Z
URL:https://chambermaster.kearneycoc.org/events/details/the-music-man-in-concert-03-13-2016-7469
END:VEVENT

END:VCALENDAR
