BEGIN:VCALENDAR
VERSION:2.0
PRODID:-//ChamberMaster//Event Calendar 2.0//EN
METHOD:PUBLISH
X-PUBLISHED-TTL:P3D
REFRESH-INTERVAL:P3D
CALSCALE:GREGORIAN
BEGIN:VEVENT
DTSTART:20220923T003000Z
DTEND:20220923T023000Z
X-MICROSOFT-CDO-ALLDAYEVENT:FALSE
SUMMARY:The Rush Tribute Project
DESCRIPTION:The Rush Tribute Project is an homage to one of the most enduring and influential bands in rock music. Combining skilled musicianship with exciting performances\, The Rush Tribute Project delivers the magic of Rush's famous live concerts. Covering all 40-plus years of Rush's amazing career\, RTP painstakingly recreates the sound and energy that made Rush one of the top-selling rock bands of all time. Tickets are on sale NOW at pickmytickets.com
X-ALT-DESC;FMTTYPE=text/html:The Rush Tribute Project is an homage to one of the most enduring and influential bands in rock music. Combining skilled musicianship with exciting performances\, The Rush Tribute Project delivers the magic of Rush&rsquo\;s famous live concerts. Covering all 40-plus years of Rush&rsquo\;s amazing career\, RTP painstakingly recreates the sound and energy that made Rush one of the top-selling rock bands of all time. Tickets are on sale NOW at pickmytickets.com
LOCATION:Merryman Performing Arts Center 225 W 22nd Street Kearney\, NE
UID:e.1404.19748
SEQUENCE:3
DTSTAMP:20260421T121649Z
URL:https://chambermaster.kearneycoc.org/events/details/the-rush-tribute-project-19748
END:VEVENT

END:VCALENDAR
