BEGIN:VCALENDAR
VERSION:2.0
PRODID:-//ChamberMaster//Event Calendar 2.0//EN
METHOD:PUBLISH
X-PUBLISHED-TTL:P3D
REFRESH-INTERVAL:P3D
CALSCALE:GREGORIAN
BEGIN:VEVENT
DTSTART:20190630T190000Z
DTEND:20190630T210000Z
X-MICROSOFT-CDO-ALLDAYEVENT:FALSE
SUMMARY:The Shall Not Grow Old - The World Theatre
DESCRIPTION:Join us for a weekend full of FREE MOVIES to celebrate our 7th Birthday for The World Theatre! A different movie every day\, see them all! A documentary about World War I with never-before-seen footage to commemorate the centennial of Armistice Day\, and the end of the war.
X-ALT-DESC;FMTTYPE=text/html:Join us for a weekend full of FREE MOVIES to celebrate our 7th Birthday for The World Theatre! A different movie every day\, see them all! A documentary about World War I with never-before-seen footage to commemorate the centennial of Armistice Day\, and the end of the war.
LOCATION:The World Theatre 2318 Central Avenue Kearney NE 68847
UID:e.1404.16532
SEQUENCE:3
DTSTAMP:20260426T005427Z
URL:https://chambermaster.kearneycoc.org/events/details/the-shall-not-grow-old-the-world-theatre-16532
END:VEVENT

END:VCALENDAR
