BEGIN:VCALENDAR
VERSION:2.0
PRODID:-//ChamberMaster//Event Calendar 2.0//EN
METHOD:PUBLISH
X-PUBLISHED-TTL:P3D
REFRESH-INTERVAL:P3D
CALSCALE:GREGORIAN
BEGIN:VEVENT
DTSTART:20190420T003000Z
DTEND:20190420T023000Z
X-MICROSOFT-CDO-ALLDAYEVENT:FALSE
SUMMARY:The Shawshank Redemption - The World Theatre
DESCRIPTION:Framed in the 1940s for the double murder of his wife and her lover\, upstanding banker Andy Dufresne begins a new life at the Shawshank prison\, where he puts his accounting skills to work for an amoral warden. During his long stretch in prison\, Dufresne comes to be admired by the other inmates -- including an older prisoner named Red -- for his integrity and unquenchable sense of hope.
X-ALT-DESC;FMTTYPE=text/html:Framed in the 1940s for the double murder of his wife and her lover\, upstanding banker Andy Dufresne begins a new life at the Shawshank prison\, where he puts his accounting skills to work for an amoral warden. During his long stretch in prison\, Dufresne comes to be admired by the other inmates -- including an older prisoner named Red -- for his integrity and unquenchable sense of hope.
LOCATION:The World Theatre 2318 Central Ave Kearney NE 68847
UID:e.1404.15864
SEQUENCE:3
DTSTAMP:20260426T033406Z
URL:https://chambermaster.kearneycoc.org/events/details/the-shawshank-redemption-the-world-theatre-04-19-2019-15864
END:VEVENT

END:VCALENDAR
