BEGIN:VCALENDAR
VERSION:2.0
PRODID:-//ChamberMaster//Event Calendar 2.0//EN
METHOD:PUBLISH
X-PUBLISHED-TTL:P3D
REFRESH-INTERVAL:P3D
CALSCALE:GREGORIAN
BEGIN:VEVENT
DTSTART:20220123T010000Z
DTEND:20220123T033000Z
X-MICROSOFT-CDO-ALLDAYEVENT:FALSE
SUMMARY:The Simon & Garfunkel Story
DESCRIPTION:The Simon & Garfunkel Story is a critically acclaimed concert that includes the story about two young boys who went on to become the world's most successful music duos of all time. Using state of the art video projection\, incredible lighting and a full LIVE band performing\, "Bridge over Troubled Waters"\, "Sounds of Silence"\, and "Mrs. Robinson". Tickets are available online at pickmytickets.com or by calling the box office at (308) 698-8297.
X-ALT-DESC;FMTTYPE=text/html:The Simon &amp\; Garfunkel Story is a&nbsp\;critically&nbsp\;acclaimed concert that includes the story about&nbsp\;two young boys who&nbsp\;went on to become the world&rsquo\;s most successful music duos of all time. Using state of the art video projection\,&nbsp\;incredible lighting and a full LIVE band performing\, &ldquo\;Bridge over Troubled Waters&rdquo\;\, &ldquo\;Sounds of Silence&rdquo\;\, and &ldquo\;Mrs. Robinson&rdquo\;. Tickets are available online at pickmytickets.com or by calling the box office at (308) 698-8297.
LOCATION:Merryman Performing Arts Center 225 W 22nd Street Kearney\, NE
UID:e.1404.19446
SEQUENCE:3
DTSTAMP:20260423T195320Z
URL:https://chambermaster.kearneycoc.org/events/details/the-simon-garfunkel-story-19446
END:VEVENT

END:VCALENDAR
