BEGIN:VCALENDAR
VERSION:2.0
PRODID:-//ChamberMaster//Event Calendar 2.0//EN
METHOD:PUBLISH
X-PUBLISHED-TTL:P3D
REFRESH-INTERVAL:P3D
CALSCALE:GREGORIAN
BEGIN:VEVENT
DTSTART:20120802T190000Z
DTEND:20120803T190000Z
X-MICROSOFT-CDO-ALLDAYEVENT:FALSE
SUMMARY:The Sound of Music
DESCRIPTION:"The Sound of Music" \n\n	July 19 - August 5 (select dates)\n\n	Kearney Community Theatre\n\n	Dinner Theatre: $33.25\n\n	Theatre only: $16.00\n\n	Doors open at 6:30\, show begins at 8:00 p.m.\n\n	Matinee at 2:00 p.m.\n\n	Tickets must be purchased in advance.
X-ALT-DESC;FMTTYPE=text/html:<p style="MARGIN: 0in 0in 0pt">\n	<strong><span style="FONT-FAMILY: 'Arial'\,'sans-serif'\; COLOR: #0b3758">&quot\;The Sound of Music&quot\;&nbsp\;</span></strong></p>\n<p style="MARGIN: 0in 0in 0pt">\n	<span style="FONT-FAMILY: 'Arial'\,'sans-serif'">July 19 - August 5 (select dates)</span></p>\n<p style="MARGIN: 0in 0in 0pt">\n	<span style="FONT-FAMILY: 'Arial'\,'sans-serif'">Kearney Community Theatre</span></p>\n<p style="MARGIN: 0in 0in 0pt">\n	<span style="FONT-FAMILY: 'Arial'\,'sans-serif'">Dinner Theatre: $33.25</span></p>\n<p style="MARGIN: 0in 0in 0pt">\n	<span style="FONT-FAMILY: 'Arial'\,'sans-serif'">Theatre only: $16.00</span></p>\n<p style="MARGIN: 0in 0in 0pt">\n	<span style="FONT-FAMILY: 'Arial'\,'sans-serif'">Doors open at 6:30\, show begins at 8:00 p.m.</span></p>\n<p style="MARGIN: 0in 0in 0pt">\n	<span style="FONT-FAMILY: 'Arial'\,'sans-serif'">Matinee at 2:00 p.m.</span></p>\n<p style="MARGIN: 0in 0in 0pt">\n	<span style="FONT-FAMILY: 'Arial'\,'sans-serif'">Tickets must be purchased in advance.<strong><span style="FONT-FAMILY: 'Arial'\,'sans-serif'">&nbsp\; </span></strong></span></p>\n
LOCATION:
UID:e.1404.2172
SEQUENCE:3
DTSTAMP:20260425T033229Z
URL:https://chambermaster.kearneycoc.org/events/details/the-sound-of-music-08-02-2012-2172
END:VEVENT

END:VCALENDAR
