BEGIN:VCALENDAR
VERSION:2.0
PRODID:-//ChamberMaster//Event Calendar 2.0//EN
METHOD:PUBLISH
X-PUBLISHED-TTL:P3D
REFRESH-INTERVAL:P3D
CALSCALE:GREGORIAN
BEGIN:VEVENT
DTSTART:20150611T000000Z
DTEND:20150611T013000Z
X-MICROSOFT-CDO-ALLDAYEVENT:FALSE
SUMMARY:Theater For The Thirsty - My Name Is Daniel
DESCRIPTION:A lions' den... a fiery furnace... No\, it's not "Survivor: the Musical." It's a new take on the story of Daniel? complete with a "Sound of Music" parody. Theater For The Thirsty creates and performs redemptive theater that is entertaining and imaginative. Their recipe is simple: incorporate well-crafted stories\, a heavy dose of quality comedy\, dynamic music\, memorable characters\, simple props\, and NO MSG.
X-ALT-DESC;FMTTYPE=text/html:A lions&#39\; den... a fiery furnace... No\, it&#39\;s not &quot\;Survivor: the Musical.&quot\; It&#39\;s a new take on the story of Daniel? complete with a &quot\;Sound of Music&quot\; parody. Theater For The Thirsty creates and performs redemptive theater that is entertaining and imaginative. Their recipe is simple: incorporate well-crafted stories\, a heavy dose of quality comedy\, dynamic music\, memorable characters\, simple props\, and NO MSG.
LOCATION:Kearney Evangelical Free Church
UID:e.1404.6446
SEQUENCE:3
DTSTAMP:20260422T165816Z
URL:https://chambermaster.kearneycoc.org/events/details/theater-for-the-thirsty-my-name-is-daniel-06-10-2015-6446
END:VEVENT

END:VCALENDAR
