BEGIN:VCALENDAR
VERSION:2.0
PRODID:-//ChamberMaster//Event Calendar 2.0//EN
METHOD:PUBLISH
X-PUBLISHED-TTL:P3D
REFRESH-INTERVAL:P3D
CALSCALE:GREGORIAN
BEGIN:VEVENT
DTSTART;VALUE=DATE:20151009
DTEND;VALUE=DATE:20151011
TRANSP:TRANSPARENT
X-MICROSOFT-CDO-ALLDAYEVENT:TRUE
SUMMARY:Threads Across Nebraska
DESCRIPTION:Threads Across Nebraska\n\nQuilts & Vendors from across the State of NE
X-ALT-DESC;FMTTYPE=text/html:Threads Across Nebraska<br />\nQuilts &amp\; Vendors from across the State of NE
LOCATION:Buffalo County Fairgrounds Expo Building
UID:e.1404.6698
SEQUENCE:3
DTSTAMP:20260422T100433Z
URL:https://chambermaster.kearneycoc.org/events/details/threads-across-nebraska-10-09-2015-6698
END:VEVENT

END:VCALENDAR
