BEGIN:VCALENDAR
VERSION:2.0
PRODID:-//ChamberMaster//Event Calendar 2.0//EN
METHOD:PUBLISH
X-PUBLISHED-TTL:P3D
REFRESH-INTERVAL:P3D
CALSCALE:GREGORIAN
BEGIN:VEVENT
DTSTART:20161119T160000Z
DTEND:20161120T030000Z
X-MICROSOFT-CDO-ALLDAYEVENT:FALSE
SUMMARY:Toys for Tots
DESCRIPTION:Join CR toys and the Marines on November 19th to collect toys for tots in front of CR Toys in the Hilltop Mall. This is a one day event and will take place from 10am to 9pm.
X-ALT-DESC;FMTTYPE=text/html:Join CR toys and the Marines on November 19th to collect toys for tots in front of CR Toys in the Hilltop Mall. This is a one day event and will take place from 10am to 9pm.
LOCATION:Hilltop Mall Kearney Ne 68847
UID:e.1404.9094
SEQUENCE:3
DTSTAMP:20260421T121813Z
URL:https://chambermaster.kearneycoc.org/events/details/toys-for-tots-9094
END:VEVENT

END:VCALENDAR
