BEGIN:VCALENDAR
VERSION:2.0
PRODID:-//ChamberMaster//Event Calendar 2.0//EN
METHOD:PUBLISH
X-PUBLISHED-TTL:P3D
REFRESH-INTERVAL:P3D
CALSCALE:GREGORIAN
BEGIN:VEVENT
DTSTART:20191116T160000Z
DTEND:20191116T200000Z
X-MICROSOFT-CDO-ALLDAYEVENT:FALSE
SUMMARY:Traeger Turkey Demo Day
DESCRIPTION:Join us on\, Saturday\, November 16th to learn how to cook the juiciest bird you'll ever eat.
X-ALT-DESC;FMTTYPE=text/html:Join us on\, Saturday\, November 16th to learn how to cook the juiciest bird you&rsquo\;ll ever eat.
LOCATION:BUILDERS - 4600 2nd Ave\, Kearney\, NE 68847
UID:e.1404.17893
SEQUENCE:3
DTSTAMP:20260425T163941Z
URL:https://chambermaster.kearneycoc.org/events/details/traeger-turkey-demo-day-17893
END:VEVENT

END:VCALENDAR
