BEGIN:VCALENDAR
VERSION:2.0
PRODID:-//ChamberMaster//Event Calendar 2.0//EN
METHOD:PUBLISH
X-PUBLISHED-TTL:P3D
REFRESH-INTERVAL:P3D
CALSCALE:GREGORIAN
BEGIN:VEVENT
DTSTART:20190408T170000Z
DTEND:20190408T183000Z
X-MICROSOFT-CDO-ALLDAYEVENT:FALSE
SUMMARY:Tri-City Legislative Lunch
DESCRIPTION:Join us for a Tri-Cities Legislative lunch in Lincoln with our local Senators\, including our own Senator\, John Lowe.  Hear first hand what is going on in the Nebraska Legislature and the bills our Senators are working on.\n\n\n\nIf you are interested in carpooling\, please contact Sharon at the Chamber as we will leave around 9:30 a.m.  Also note that this is an alternative location and not the State Capitol as has been in the past.
X-ALT-DESC;FMTTYPE=text/html:Join us for a Tri-Cities Legislative lunch in Lincoln with our local Senators\, including our own Senator\, John Lowe.&nbsp\; Hear first hand what is going on in the Nebraska Legislature and the bills our Senators are working on.<br />\n<br />\nIf you are interested in carpooling\, please contact Sharon at the Chamber as we will leave around 9:30 a.m.&nbsp\; Also note that this is an alternative location and not the State Capitol as has been in the past.
LOCATION:Nebraska State Education Association Board Room 605 S. 14th St. Lincoln\, NE
UID:e.1404.15451
SEQUENCE:3
DTSTAMP:20260426T032613Z
URL:https://chambermaster.kearneycoc.org/events/details/tri-city-legislative-lunch-15451
END:VEVENT

END:VCALENDAR
