BEGIN:VCALENDAR
VERSION:2.0
PRODID:-//ChamberMaster//Event Calendar 2.0//EN
METHOD:PUBLISH
X-PUBLISHED-TTL:P3D
REFRESH-INTERVAL:P3D
CALSCALE:GREGORIAN
BEGIN:VEVENT
DTSTART:20160826T150000Z
DTEND:20160826T230000Z
X-MICROSOFT-CDO-ALLDAYEVENT:FALSE
SUMMARY:Tri-City Storm Golf Classic
DESCRIPTION:Come spend the day with Storm owner\, Kirk Brooks\, head coach\, Bill Muckalt\, Storm players and staff! Lunch is provided by Oxford Locker and prime rib dinner is provided by Cash-Wa and Dickey's BBQ. Each golfer will receive a one-of-a-kind Clark Cup Championship gift.\n\n\n\n**Raffle tickets will be available for many great prizes including the chance to be paired with owner\, Kirk Brooks\, or head coach\, Bill Muckalt\, on the course.
X-ALT-DESC;FMTTYPE=text/html:Come spend the day with Storm owner\, Kirk Brooks\, head coach\, Bill Muckalt\, Storm players and staff! Lunch is provided by Oxford Locker and prime rib dinner is provided by Cash-Wa and Dickey&#39\;s BBQ. Each golfer will receive a one-of-a-kind Clark Cup Championship gift.<br />\n<br />\n**Raffle tickets will be available for many great prizes including the chance to be paired with owner\, Kirk Brooks\, or head coach\, Bill Muckalt\, on the course.
LOCATION:Awarii Dunes 592 South Rd. Axtell\, NE
UID:e.1404.8971
SEQUENCE:3
DTSTAMP:20260421T170835Z
URL:https://chambermaster.kearneycoc.org/events/details/tri-city-storm-golf-classic-08-26-2016-8971
END:VEVENT

END:VCALENDAR
