BEGIN:VCALENDAR
VERSION:2.0
PRODID:-//ChamberMaster//Event Calendar 2.0//EN
METHOD:PUBLISH
X-PUBLISHED-TTL:P3D
REFRESH-INTERVAL:P3D
CALSCALE:GREGORIAN
BEGIN:VEVENT
DTSTART:20131130T013000Z
DTEND:20131130T013000Z
X-MICROSOFT-CDO-ALLDAYEVENT:FALSE
SUMMARY:Tri-City Storm vs. Omaha
DESCRIPTION:Cheer for Purple in another battle in standing for the 'Good Life Cup' Race. Bring the family our for affordable family fun!
X-ALT-DESC;FMTTYPE=text/html:Cheer for Purple in another battle in standing for the &#39\;Good Life Cup&#39\; Race. Bring the family our for affordable family fun!
LOCATION:Viaero Event Center 609 Platte Road Kearney\, NE
UID:e.1404.3364
SEQUENCE:3
DTSTAMP:20260424T003358Z
URL:https://chambermaster.kearneycoc.org/events/details/tri-city-storm-vs-omaha-11-29-2013-3364
END:VEVENT

END:VCALENDAR
