BEGIN:VCALENDAR
VERSION:2.0
PRODID:-//ChamberMaster//Event Calendar 2.0//EN
METHOD:PUBLISH
X-PUBLISHED-TTL:P3D
REFRESH-INTERVAL:P3D
CALSCALE:GREGORIAN
BEGIN:VEVENT
DTSTART:20161027T210000Z
DTEND:20161027T230000Z
X-MICROSOFT-CDO-ALLDAYEVENT:FALSE
SUMMARY:Trick or Treat The Bricks
DESCRIPTION:Bring your little ones to trick-or-treat Downtown Kearney on the Bricks! Maybe even 'treat' yourself while you're there!
X-ALT-DESC;FMTTYPE=text/html:<span style="color: rgb(102\, 102\, 102)\; font-family: &quot\;Open Sans&quot\;\, HelveticaNeue\, &quot\;Helvetica Neue&quot\;\, Helvetica\, Arial\, sans-serif\; line-height: 22.1px\;">Bring your little ones to trick-or-treat Downtown Kearney on the Bricks! Maybe even &lsquo\;treat&rsquo\; yourself while you&rsquo\;re there!</span>
LOCATION:Downtown Kearney\, The Bricks
UID:e.1404.9026
SEQUENCE:3
DTSTAMP:20260421T140206Z
URL:https://chambermaster.kearneycoc.org/events/details/trick-or-treat-the-bricks-9026
END:VEVENT

END:VCALENDAR
