BEGIN:VCALENDAR
VERSION:2.0
PRODID:-//ChamberMaster//Event Calendar 2.0//EN
METHOD:PUBLISH
X-PUBLISHED-TTL:P3D
REFRESH-INTERVAL:P3D
CALSCALE:GREGORIAN
BEGIN:VEVENT
DTSTART:20160729T193000Z
DTEND:20160729T233000Z
X-MICROSOFT-CDO-ALLDAYEVENT:FALSE
SUMMARY:Trius Federal Credit Union Soccer Golf Fundraiser for Children's Miracle Network Hospitals
DESCRIPTION:The Soccer Golf craze sweeping the nation has come to Kearney.  There's a new spin on the game of golf!  Soccer and golf have been combined for a fun and unique experience. The purpose of the game is to guide a soccer ball around the golf course using only your feet.  Each contact of the ball is counted as a stroke and the person with the least amount of strokes wins at the end of 9 holes.  To complete each hole the soccer ball must enter the hole area\, touch the flag pole and remain in the hole area\, e.g. hula hoop.\n\n\n\n-Tee times will be every 15 minutes beginning at 2:30 pm - last out at 5:30 pm.\n\n-Groups of 4 to 6  players will tee off together.\n\n-#5 soccer ball to be provided or a player may bring their own.\n\n-Players may rent a cart from the club\, but it is not included in the price to play.\n\n-$20 per player.  Youth must be 5 years of age to play and accompanied by an adult.  The adult is not required to play. \n\n-Food and beverages will be available to purchase.\n\n\n\nPrizes \n\nAdult Flight Gift Certificates $30\, $20\, $10\n\nJunior Flight 18 years of age or younger\, Gift Certificate $30\, $20\, $10\n\n**Plus lots of flag prizes\n\n\n\nRaffle Prizes\n\nRaffle Items for adults & youth $5 for 1 ticket or 3 tickets for $10. Each Soccer Golf player receives 1 ticket for free. Need not be present to win. Winners will be notified and prizes can be picked-up at Kearney Federal Credit Union. \n\n\n\nTo register contact Vicki Harper.
X-ALT-DESC;FMTTYPE=text/html:The Soccer Golf craze sweeping the nation has come to Kearney. &nbsp\;There&rsquo\;s a new spin on the game of golf! &nbsp\;Soccer and golf have been combined for a fun and unique experience. The purpose of the game is to guide a soccer ball around the golf course using only your feet. &nbsp\;Each contact of the ball is counted as a stroke and the person with the least amount of strokes wins at the end of 9 holes. &nbsp\;To complete each hole the soccer ball must enter the hole area\, touch the flag pole and remain in the hole area\, e.g. hula hoop.<br />\n<br />\n-Tee times will be every 15 minutes beginning at 2:30 pm - last out at 5:30 pm.<br />\n-Groups of 4 to 6 &nbsp\;players will tee off together.<br />\n-#5 soccer ball to be provided or a player may bring their own.<br />\n-Players may rent a cart from the club\, but it is not included in the price to play.<br />\n-$20 per player. &nbsp\;Youth must be 5 years of age to play and accompanied by an adult. &nbsp\;The adult is not required to play.&nbsp\;<br />\n-Food and beverages will be available to purchase.<br />\n<br />\n<strong><u>Prizes&nbsp\;</u></strong><br />\nAdult Flight&mdash\;Gift Certificates $30\, $20\, $10<br />\nJunior Flight&mdash\;18 years of age or younger\,&nbsp\;Gift Certificate $30\, $20\, $10<br />\n**Plus lots of flag prizes<br />\n<br />\n<strong><u>Raffle Prizes</u></strong><br />\nRaffle Items for adults &amp\; youth $5 for 1 ticket or 3 tickets for $10. Each Soccer Golf player receives 1 ticket for free. Need not be present to win. Winners will be notified and prizes can be picked-up at Kearney Federal Credit Union.&nbsp\;<br />\n<br />\nTo register contact Vicki Harper.
LOCATION:Elk's Country Golf Course 2635 E 103rd St.
UID:e.1404.8939
SEQUENCE:3
DTSTAMP:20260421T190607Z
URL:https://chambermaster.kearneycoc.org/events/details/trius-federal-credit-union-soccer-golf-fundraiser-for-children-s-miracle-network-hospitals-07-29-2016-8939
END:VEVENT

END:VCALENDAR
