BEGIN:VCALENDAR
VERSION:2.0
PRODID:-//ChamberMaster//Event Calendar 2.0//EN
METHOD:PUBLISH
X-PUBLISHED-TTL:P3D
REFRESH-INTERVAL:P3D
CALSCALE:GREGORIAN
BEGIN:VEVENT
DTSTART:20190730T200000Z
DTEND:20190730T230000Z
X-MICROSOFT-CDO-ALLDAYEVENT:FALSE
SUMMARY:Turner's Body Shop & Towing - Customer Appreciation Day
DESCRIPTION:Turner's Body Shop & Towing\n\n50th Anniversary - Customer Appreciation Day
X-ALT-DESC;FMTTYPE=text/html:Turner&#39\;s Body Shop &amp\; Towing<br />\n50th Anniversary -&nbsp\;Customer Appreciation Day
LOCATION:1517 Central Ave. Kearney\, NE
UID:e.1404.16591
SEQUENCE:3
DTSTAMP:20260425T231329Z
URL:https://chambermaster.kearneycoc.org/events/details/turner-s-body-shop-towing-customer-appreciation-day-16591
END:VEVENT

END:VCALENDAR
