BEGIN:VCALENDAR
VERSION:2.0
PRODID:-//ChamberMaster//Event Calendar 2.0//EN
METHOD:PUBLISH
X-PUBLISHED-TTL:P3D
REFRESH-INTERVAL:P3D
CALSCALE:GREGORIAN
BEGIN:VEVENT
DTSTART:20220107T013000Z
DTEND:20220107T040000Z
X-MICROSOFT-CDO-ALLDAYEVENT:FALSE
SUMMARY:Tusk
DESCRIPTION:Tusk covers all the greatest hits of Fleetwood Mac\, one of the world's best-loved\, and top-selling bands. No fancy tricks\, no gimmicks\, just five musicians recreating the music of Fleetwood Mac to perfection with note for note renditions of their famous songs including "Rhiannon"\, "The Chain"\, and "Go Your Own Way". Tickets are on sale NOW at pickmytickets.com or by calling our box office at (308) 698-8297.
X-ALT-DESC;FMTTYPE=text/html:Tusk covers all the greatest hits of Fleetwood Mac\, one of the world&rsquo\;s best-loved\, and top-selling bands. No fancy tricks\, no gimmicks\, just five musicians recreating the music of Fleetwood Mac to perfection with note for note renditions&nbsp\;of their famous songs including &ldquo\;Rhiannon&rdquo\;\, &ldquo\;The Chain&rdquo\;\, and &ldquo\;Go Your Own Way&rdquo\;. Tickets are on sale NOW at pickmytickets.com or by calling our box office at (308) 698-8297.
LOCATION:Merryman Performing Arts Center 225 W 22nd Street Kearney\, NE
UID:e.1404.19442
SEQUENCE:3
DTSTAMP:20260423T194951Z
URL:https://chambermaster.kearneycoc.org/events/details/tusk-19442
END:VEVENT

END:VCALENDAR
