BEGIN:VCALENDAR
VERSION:2.0
PRODID:-//ChamberMaster//Event Calendar 2.0//EN
METHOD:PUBLISH
X-PUBLISHED-TTL:P3D
REFRESH-INTERVAL:P3D
CALSCALE:GREGORIAN
BEGIN:VEVENT
DTSTART:20160813T140000Z
DTEND:20160813T150000Z
X-MICROSOFT-CDO-ALLDAYEVENT:FALSE
SUMMARY:U.S. Cellular Device Workshop Will Provide Tips on How to Save Soaked Cellphone
DESCRIPTION:As August continues to provide warm weather\, hitting the pool or local lake is a great way to cool off. Summer also is one of the busiest times for cellphone repairs due to water damage. It's a horrible\, cringe-worthy moment when a smartphone falls into a pool\, river or lake. It happens to most people at some point\, so it's important to be prepared with a plan to recover and restore your latest device\, such as the iPhone 6s\, Samsung Galaxy S7 or LG G5\, if it becomes waterlogged. At U.S. Cellular's free Device Workshop\, attendees can hear advice on how you can make sure your phone's data\, such as contacts and photos\, can be backed up before an incident occurs and what steps to take if your smartphone takes a plunge. "In today's mobile society\, people depend on a high-quality network for everything from scheduling their busy lives and connecting with friends and family to posting social media updates and planning their summer vacations\," said Mike Adams\, U.S. Cellular's director of sales for Nebraska and Iowa. "So if your smartphone gets wet\, the key to success is acting quickly. Keep a cool head\, use solutions that have been proven effective and avoid behavior that might cause further damage." You may call 308-236-2075 for more information or to RSVP. You don't have to be a U.S. Cellular customer to attend.
X-ALT-DESC;FMTTYPE=text/html:As August continues to provide warm weather\, hitting the pool or local lake is a great way to cool off. Summer also is one of the busiest times for cellphone repairs due to water damage. It&rsquo\;s a horrible\, cringe-worthy moment when a smartphone falls into a pool\, river or lake. It happens to most people at some point\, so it&rsquo\;s important to be prepared with a plan to recover and restore your latest device\, such as the iPhone 6s\, Samsung Galaxy S7 or LG G5\, if it becomes waterlogged. At U.S. Cellular&rsquo\;s free Device Workshop\, attendees can hear advice on how you can make sure your phone&rsquo\;s data\, such as contacts and photos\, can be backed up before an incident occurs and what steps to take if your smartphone takes a plunge. &ldquo\;In today&rsquo\;s mobile society\, people depend on a high-quality network for everything from scheduling their busy lives and connecting with friends and family to posting social media updates and planning their summer vacations\,&rdquo\; said Mike Adams\, U.S. Cellular&rsquo\;s director of sales for Nebraska and Iowa. &ldquo\;So if your smartphone gets wet\, the key to success is acting quickly. Keep a cool head\, use solutions that have been proven effective and avoid behavior that might cause further damage.&rdquo\; You may call <a href="tel:308-236-2075">308-236-2075</a> for more information or to RSVP. You don&rsquo\;t have to be a U.S. Cellular customer to attend.
LOCATION:U.S. Cellular 5603 Second Ave. Kearney\, NE 68847
UID:e.1404.8967
SEQUENCE:3
DTSTAMP:20260421T171659Z
URL:https://chambermaster.kearneycoc.org/events/details/u-s-cellular-device-workshop-will-provide-tips-on-how-to-save-soaked-cellphone-08-13-2016-8967
END:VEVENT

END:VCALENDAR
