BEGIN:VCALENDAR
VERSION:2.0
PRODID:-//ChamberMaster//Event Calendar 2.0//EN
METHOD:PUBLISH
X-PUBLISHED-TTL:P3D
REFRESH-INTERVAL:P3D
CALSCALE:GREGORIAN
BEGIN:VEVENT
DTSTART:20130919T140000Z
DTEND:20130919T213000Z
X-MICROSOFT-CDO-ALLDAYEVENT:FALSE
SUMMARY:Union Pacific Rail Ride
DESCRIPTION:Union Pacific Rail Ride
X-ALT-DESC;FMTTYPE=text/html:Union Pacific Rail Ride
LOCATION:Pick up at East Railroad at Ave N in Kearney and travels to Elm Creek and back.
UID:e.1404.3296
SEQUENCE:3
DTSTAMP:20260424T035657Z
URL:https://chambermaster.kearneycoc.org/events/details/union-pacific-rail-ride-09-19-2013-3296
END:VEVENT

END:VCALENDAR
