BEGIN:VCALENDAR
VERSION:2.0
PRODID:-//ChamberMaster//Event Calendar 2.0//EN
METHOD:PUBLISH
X-PUBLISHED-TTL:P3D
REFRESH-INTERVAL:P3D
CALSCALE:GREGORIAN
BEGIN:VEVENT
DTSTART:20161004T173000Z
DTEND:20161004T203000Z
X-MICROSOFT-CDO-ALLDAYEVENT:FALSE
SUMMARY:UNK Career Days
DESCRIPTION:Fall Career and Grad School Fair.\n\nGo to UNK.EDU/Career-Days for more information
X-ALT-DESC;FMTTYPE=text/html:Fall Career and Grad School Fair.<br />\nGo to UNK.EDU/Career-Days for more information
LOCATION:UNK Health & Sports Center
UID:e.1404.9041
SEQUENCE:3
DTSTAMP:20260421T135959Z
URL:https://chambermaster.kearneycoc.org/events/details/unk-career-days-9041
END:VEVENT

END:VCALENDAR
