BEGIN:VCALENDAR
VERSION:2.0
PRODID:-//ChamberMaster//Event Calendar 2.0//EN
METHOD:PUBLISH
X-PUBLISHED-TTL:P3D
REFRESH-INTERVAL:P3D
CALSCALE:GREGORIAN
BEGIN:VEVENT
DTSTART:20191203T013000Z
DTEND:20191203T030000Z
X-MICROSOFT-CDO-ALLDAYEVENT:FALSE
SUMMARY:UNK Concert-on-the-Platte Series: Dr. Andrew White\, baritone & Dr. Nathan Buckner\, piano
DESCRIPTION:Join us at the FAB for a Concert-on-the-Platte Recital by UNK's Faculty\, Dr. Andrew White\, baritone\, and Dr. Nathan Buckner\, piano. This concert is Free and open to the public! http://www.unk.edu/academics/music/performing-art-live-stream-events.php This concert will be live streamed at:
X-ALT-DESC;FMTTYPE=text/html:Join us at the FAB for a Concert-on-the-Platte Recital by UNK&#39\;s Faculty\, Dr. Andrew White\, baritone\, and Dr. Nathan Buckner\, piano. This concert is Free and open to the public! http://www.unk.edu/academics/music/performing-art-live-stream-events.php This concert will be live streamed at:
LOCATION:UNK FAB Recital Hall
UID:e.1404.18250
SEQUENCE:3
DTSTAMP:20260425T150547Z
URL:https://chambermaster.kearneycoc.org/events/details/unk-concert-on-the-platte-series-dr-andrew-white-baritone-dr-nathan-buckner-piano-18250
END:VEVENT

END:VCALENDAR
