BEGIN:VCALENDAR
VERSION:2.0
PRODID:-//ChamberMaster//Event Calendar 2.0//EN
METHOD:PUBLISH
X-PUBLISHED-TTL:P3D
REFRESH-INTERVAL:P3D
CALSCALE:GREGORIAN
BEGIN:VEVENT
DTSTART:20191205T013000Z
DTEND:20191205T030000Z
X-MICROSOFT-CDO-ALLDAYEVENT:FALSE
SUMMARY:UNK Guest Artist Recital: Jon Sharp\, percussion
DESCRIPTION:Join us at the FAB for a percussion Guest Artist Recital by Jon Sharp from Iowa State University. This recital will be live streamed at: http://www.unk.edu/academics/music/performing-art-live-stream-events.php
X-ALT-DESC;FMTTYPE=text/html:Join us at the FAB for a percussion Guest Artist Recital by Jon Sharp from Iowa State University. This recital will be live streamed at: http://www.unk.edu/academics/music/performing-art-live-stream-events.php
LOCATION:UNK FAB Recital Hall
UID:e.1404.18251
SEQUENCE:3
DTSTAMP:20260425T150055Z
URL:https://chambermaster.kearneycoc.org/events/details/unk-guest-artist-recital-jon-sharp-percussion-18251
END:VEVENT

END:VCALENDAR
