BEGIN:VCALENDAR
VERSION:2.0
PRODID:-//ChamberMaster//Event Calendar 2.0//EN
METHOD:PUBLISH
X-PUBLISHED-TTL:P3D
REFRESH-INTERVAL:P3D
CALSCALE:GREGORIAN
BEGIN:VEVENT
DTSTART:20200220T013000Z
DTEND:20200220T030000Z
X-MICROSOFT-CDO-ALLDAYEVENT:FALSE
SUMMARY:UNK Jazz-Rock Ensemble Concert
DESCRIPTION:The UNK Jazz/Rock Ensemble serves as a laboratory for music students to hone their jazz performance skills and as a small ensemble for university students who want to play big band jazz. This concert is FREE and open to the public and will be livestreamed at http://www.unk.edu/academics/music/performing-art-live-stream-events.php.
X-ALT-DESC;FMTTYPE=text/html:The UNK Jazz/Rock Ensemble serves as a laboratory for music students to hone their jazz performance skills and as a small ensemble for university students who want to play big band jazz. This concert is FREE and open to the public and will be livestreamed at http://www.unk.edu/academics/music/performing-art-live-stream-events.php.
LOCATION:UNK FAB Recital Hall
UID:e.1404.18318
SEQUENCE:3
DTSTAMP:20260425T113202Z
URL:https://chambermaster.kearneycoc.org/events/details/unk-jazz-rock-ensemble-concert-18318
END:VEVENT

END:VCALENDAR
