BEGIN:VCALENDAR
VERSION:2.0
PRODID:-//ChamberMaster//Event Calendar 2.0//EN
METHOD:PUBLISH
X-PUBLISHED-TTL:P3D
REFRESH-INTERVAL:P3D
CALSCALE:GREGORIAN
BEGIN:VEVENT
DTSTART:20190913T000000Z
DTEND:20190913T030000Z
X-MICROSOFT-CDO-ALLDAYEVENT:FALSE
SUMMARY:UNK Loper Football Game
DESCRIPTION:UNK Loper Home Football game at Ron & Carol Cope Stadium\, 7:00 pm vs. Central Oklahoma.
X-ALT-DESC;FMTTYPE=text/html:UNK Loper Home Football game at Ron &amp\; Carol Cope Stadium\, 7:00 pm vs. Central Oklahoma.
LOCATION:
UID:e.1404.17844
SEQUENCE:3
DTSTAMP:20260425T195256Z
URL:https://chambermaster.kearneycoc.org/events/details/unk-loper-football-game-17844
END:VEVENT

END:VCALENDAR
