BEGIN:VCALENDAR
VERSION:2.0
PRODID:-//ChamberMaster//Event Calendar 2.0//EN
METHOD:PUBLISH
X-PUBLISHED-TTL:P3D
REFRESH-INTERVAL:P3D
CALSCALE:GREGORIAN
BEGIN:VEVENT
DTSTART:20190929T000000Z
DTEND:20190929T030000Z
X-MICROSOFT-CDO-ALLDAYEVENT:FALSE
SUMMARY:UNK Loper Football Game
DESCRIPTION:Lopers vs. Pittsburg State\, 7:00 p.m. Ron & Carol Cope Stadium
X-ALT-DESC;FMTTYPE=text/html:Lopers vs. Pittsburg State\, 7:00 p.m. Ron &amp\; Carol Cope Stadium
LOCATION:
UID:e.1404.17847
SEQUENCE:3
DTSTAMP:20260425T195256Z
URL:https://chambermaster.kearneycoc.org/events/details/unk-loper-football-game-17847
END:VEVENT

END:VCALENDAR
