BEGIN:VCALENDAR
VERSION:2.0
PRODID:-//ChamberMaster//Event Calendar 2.0//EN
METHOD:PUBLISH
X-PUBLISHED-TTL:P3D
REFRESH-INTERVAL:P3D
CALSCALE:GREGORIAN
BEGIN:VEVENT
DTSTART:20220621T223000Z
DTEND:20220621T233000Z
X-MICROSOFT-CDO-ALLDAYEVENT:FALSE
SUMMARY:UNK On the Bricks
DESCRIPTION:Join us Downtown: UNK's Office of Graduate Studies and Academic Outreach is inviting you to learn about what's happening on our campus\, as well as connect with others at UNK and in the community
X-ALT-DESC;FMTTYPE=text/html:Join us Downtown: UNK&#39\;s Office of Graduate Studies and Academic Outreach is inviting you to learn about what&#39\;s happening on our campus\, as well as connect with others at UNK and in the community
LOCATION:Nest:Space 2224 Central Ave. Kearney\, NE 68847
UID:e.1404.19961
SEQUENCE:3
DTSTAMP:20260423T115226Z
URL:https://chambermaster.kearneycoc.org/events/details/unk-on-the-bricks-19961
END:VEVENT

END:VCALENDAR
