BEGIN:VCALENDAR
VERSION:2.0
PRODID:-//ChamberMaster//Event Calendar 2.0//EN
METHOD:PUBLISH
X-PUBLISHED-TTL:P3D
REFRESH-INTERVAL:P3D
CALSCALE:GREGORIAN
BEGIN:VEVENT
DTSTART;VALUE=DATE:20130618
DTEND;VALUE=DATE:20130621
TRANSP:TRANSPARENT
X-MICROSOFT-CDO-ALLDAYEVENT:TRUE
SUMMARY:UNK Soccer Academy
DESCRIPTION:UNK SOCCER ACADEMY\n\nUNK Soccer Camp @ UNK COPE STADIUM   Boys & Girls\n\nJune 18th\, 19th & 20th 2013\n\nTrain with UNK Coaches and Players!\n\nDirector: John Maessner - UNK Head Coach\, NCAA Div I National Champion\, \n\n3 Time Major League Soccer Champion & Former DC United Director of Youth Development!\n\nSpecial Guest Appearances may include: Major League Soccer & US National Team/World Cup Veteran Coaches and Players!!!
X-ALT-DESC;FMTTYPE=text/html:<span style="color:#1f497d\;"><span style="font-size:36.0pt\;">UNK SOCCER ACADEMY</span></span><br />\n<span style="font-size:18.0pt\;">UNK Soccer Camp @ UNK COPE STADIUM &ndash\; Boys &amp\; Girls</span><br />\n<span style="font-size:18.0pt\;">June 18<sup>th</sup>\, 19<sup>th</sup> &amp\; 20<sup>th</sup> 2013</span><br />\n<span style="font-size:18.0pt\;">Train with UNK Coaches and Players!</span><br />\n<em><span style="font-size:14.0pt\;">Director: John Maessner - UNK Head Coach\, NCAA Div I National Champion\, </span></em><br />\n<em><span style="font-size:14.0pt\;">3 Time Major League Soccer Champion &amp\; Former DC United Director of Youth Development!</span></em><br />\n<span style="font-size:10.0pt\;">Special Guest Appearances may include: Major League Soccer &amp\; US National Team/World Cup Veteran Coaches and Players!!!</span><br />\n
LOCATION:UNK Cope Stadium
UID:e.1404.2263
SEQUENCE:3
DTSTAMP:20260424T102108Z
URL:https://chambermaster.kearneycoc.org/events/details/unk-soccer-academy-06-18-2013-2263
END:VEVENT

END:VCALENDAR
